BEGIN:VCALENDAR
VERSION:2.0
PRODID:-//Plone.org//NONSGML plone.app.event//EN
X-WR-TIMEZONE:Europe/Berlin
BEGIN:VEVENT
SUMMARY:AMO Colloquium by Fabian Wolf
DTSTART;TZID=Europe/Berlin:20260512T171500
DTEND;TZID=Europe/Berlin:20260512T191500
DTSTAMP:20260426T032445Z
UID:7a38d5076236451584a18febb536a3c5-de@www.physik-astro.uni-bonn.de
CATEGORIES:indico_72
CREATED:20260119T110722Z
DESCRIPTION:"Title to be announced" - Für weitere Angaben folgen Sie dem 
 Link in der Kategorie "Weitere Informationen". For further details\, follo
 w the link in the "Additional Information" category.
LAST-MODIFIED:20260119T110724Z
URL:https://www.physik-astro.uni-bonn.de/de/Assets/veranstaltungen/amo-col
 loquium-by-fabian-wolf
END:VEVENT
BEGIN:VTIMEZONE
TZID:Europe/Berlin
X-LIC-LOCATION:Europe/Berlin
BEGIN:DAYLIGHT
DTSTART:20260329T030000
TZNAME:CEST
TZOFFSETFROM:+0100
TZOFFSETTO:+0200
END:DAYLIGHT
END:VTIMEZONE
END:VCALENDAR
