BEGIN:VCALENDAR
VERSION:2.0
PRODID:-//Plone.org//NONSGML plone.app.event//EN
X-WR-TIMEZONE:Europe/Berlin
BEGIN:VEVENT
SUMMARY:Amplitudes Seminar: TBA
DTSTART;TZID=Europe/Berlin:20260429T110000
DTEND;TZID=Europe/Berlin:20260429T130000
DTSTAMP:20260422T025553Z
UID:bf8030dd99bd465d948d32c8927f0119-de@www.physik-astro.uni-bonn.de
CATEGORIES:indico_34
CREATED:20260317T110642Z
DESCRIPTION:"TBA" - Für weitere Angaben folgen Sie dem Link in der Katego
 rie "Weitere Informationen". For further details\, follow the link in the 
 "Additional Information" category.
LAST-MODIFIED:20260408T102917Z
URL:https://www.physik-astro.uni-bonn.de/de/Assets/veranstaltungen/amplitu
 des-seminar-tba-1
END:VEVENT
BEGIN:VTIMEZONE
TZID:Europe/Berlin
X-LIC-LOCATION:Europe/Berlin
BEGIN:DAYLIGHT
DTSTART:20260329T030000
TZNAME:CEST
TZOFFSETFROM:+0100
TZOFFSETTO:+0200
END:DAYLIGHT
END:VTIMEZONE
END:VCALENDAR
