BEGIN:VCALENDAR
VERSION:2.0
PRODID:-//Plone.org//NONSGML plone.app.event//EN
X-WR-TIMEZONE:Europe/Berlin
BEGIN:VEVENT
SUMMARY:HEP Theory Seminar: TBA
DTSTART;TZID=Europe/Berlin:20260511T140000
DTEND;TZID=Europe/Berlin:20260511T160000
DTSTAMP:20260423T050312Z
UID:bf4b51f2906948a996b64a7d22c27b32-de@www.physik-astro.uni-bonn.de
CATEGORIES:indico_32
CREATED:20260420T091639Z
DESCRIPTION:"TBA" - Für weitere Angaben folgen Sie dem Link in der Katego
 rie "Weitere Informationen". For further details\, follow the link in the 
 "Additional Information" category.
LAST-MODIFIED:20260420T091641Z
URL:https://www.physik-astro.uni-bonn.de/de/Assets/veranstaltungen/hep-the
 ory-seminar-tba
END:VEVENT
BEGIN:VTIMEZONE
TZID:Europe/Berlin
X-LIC-LOCATION:Europe/Berlin
BEGIN:DAYLIGHT
DTSTART:20260329T030000
TZNAME:CEST
TZOFFSETFROM:+0100
TZOFFSETTO:+0200
END:DAYLIGHT
END:VTIMEZONE
END:VCALENDAR
