BEGIN:VCALENDAR
VERSION:2.0
PRODID:-//Plone.org//NONSGML plone.app.event//EN
X-WR-TIMEZONE:Europe/Berlin
BEGIN:VEVENT
SUMMARY:Game Night D*iP
DTSTART;TZID=Europe/Berlin:20260323T160000
DTSTAMP:20260421T030918Z
UID:2029cc0333984a9c9a2f25771a9759ce@www.physik-astro.uni-bonn.de
CATEGORIES:FLINTA* and friends
CREATED:20260309T155138Z
DESCRIPTION:A game evening hosted by the D*iP group to bring together peop
 le in physics who are curious about diversity efforts at the Uni Bonn.
LAST-MODIFIED:20260309T160331Z
URL:https://www.physik-astro.uni-bonn.de/diversity-in-physics/en/events/ga
 me-night-d-ip
END:VEVENT
BEGIN:VTIMEZONE
TZID:Europe/Berlin
X-LIC-LOCATION:Europe/Berlin
BEGIN:STANDARD
DTSTART:20251026T020000
TZNAME:CET
TZOFFSETFROM:+0200
TZOFFSETTO:+0100
END:STANDARD
END:VTIMEZONE
END:VCALENDAR
