BEGIN:VCALENDAR
VERSION:2.0
PRODID:-//Plone.org//NONSGML plone.app.event//EN
X-WR-TIMEZONE:Europe/Berlin
BEGIN:VEVENT
SUMMARY:Weihnachtsphysikshow „Eine physikalische Weihnachtsgeschichte“
DTSTART;TZID=Europe/Berlin:20241219T170000
DTEND;TZID=Europe/Berlin:20241219T190000
DTSTAMP:20260423T055314Z
UID:f1a5c7d51e9c48aab2909c9813a2c053@www.physik-astro.uni-bonn.de
CREATED:20221206T104914Z
DESCRIPTION:Physikprofessor Scrooginger hält nicht viel von anderen Mensc
 hen: Kollegen sind undankbar\, Promovierende faul und Studierende dumm. Wa
 s soll Scrooginger dann erst von all den Geistern halten\, die kurz vor We
 ihnachten samt physikalischer Experimente erscheinen?\n\nDie Show „Eine 
 physikalische Weihnachtsgeschichte” wird am 19.12.2024 um 17:00 Uhr im W
 olfgang-Paul-Hörsaal aufgeführt.\n\nDie Anmeldung ist freigeschaltet. Nu
 r mit einer Reservierung können Sie sicher sein\, dass Sie einen Platz im
  Publikum bekommen werden\; eine Reservierung ist aber nicht erforderlich.
LAST-MODIFIED:20250906T010638Z
URL:https://www.physik-astro.uni-bonn.de/physikshow/de/veranstaltungen/wei
 hnachtsphysikshow-2024
END:VEVENT
BEGIN:VTIMEZONE
TZID:Europe/Berlin
X-LIC-LOCATION:Europe/Berlin
BEGIN:STANDARD
DTSTART:20241027T020000
TZNAME:CET
TZOFFSETFROM:+0200
TZOFFSETTO:+0100
END:STANDARD
END:VTIMEZONE
END:VCALENDAR
