BEGIN:VCALENDAR
VERSION:2.0
PRODID:-//Plone.org//NONSGML plone.app.event//EN
X-WR-TIMEZONE:Europe/Berlin
BEGIN:VEVENT
SUMMARY:Christmas Physics Show “Eine physikalische Weihnachtsgeschichte
 ”
DTSTART;TZID=Europe/Berlin:20241219T170000
DTEND;TZID=Europe/Berlin:20241219T190000
DTSTAMP:20260419T202131Z
UID:8a3a3f3d26ba419e8b82fb378a6382ac@www.physik-astro.uni-bonn.de
CREATED:20221206T104914Z
DESCRIPTION:Physics professor Scrooginger doesn’t think highly of other 
 people: Colleagues are ungrateful\, PhD students are lazy and students are
  dumb. So what should Scrooginger think of all the ghosts who appear just 
 before Christmas\, along with physics experiments?\n\nThe show “Eine phy
 sikalische Weihnachtsgeschichte” (“A Physics Christmas Carol”) will 
 be performed on 19.12.2024 at 5 pm in the Wolfgang-Paul lecture hall.\n\nR
 egistration is now open. Only with a reservation can you be sure that you 
 will get a place in the audience\; however\, a reservation is not necessar
 y.
LAST-MODIFIED:20250906T010647Z
URL:https://www.physik-astro.uni-bonn.de/physikshow/en/events/weihnachtsph
 ysikshow-2024
END:VEVENT
BEGIN:VTIMEZONE
TZID:Europe/Berlin
X-LIC-LOCATION:Europe/Berlin
BEGIN:STANDARD
DTSTART:20241027T020000
TZNAME:CET
TZOFFSETFROM:+0200
TZOFFSETTO:+0100
END:STANDARD
END:VTIMEZONE
END:VCALENDAR
